BEGIN:VCALENDAR
VERSION:2.0
PRODID:-//Tukios.com/
BEGIN:VEVENT
UID:5ef4fdaf-c689-48e5-98fc-c8a0175fe4d5@www.adducizimny.com
DTSTAMP:20260423T200558Z
DTSTART:20260426T190000Z
DTEND:20260427T010000Z
SUMMARY:Visitation
DESCRIPTION:
URL:https://www.adducizimny.com/obituaries/janice-cimaroli
LOCATION: 14522 S Western Ave  Posen IL 60469
GEO:41.6291246;-87.6768164
END:VEVENT
END:VCALENDAR